BEGIN:VCALENDAR
VERSION:2.0
PRODID:-//USA Masters Boxing - ECPv6.0.6.2//NONSGML v1.0//EN
CALSCALE:GREGORIAN
METHOD:PUBLISH
X-WR-CALNAME:USA Masters Boxing
X-ORIGINAL-URL:https://usamastersboxing.com
X-WR-CALDESC:Events for USA Masters Boxing
REFRESH-INTERVAL;VALUE=DURATION:PT1H
X-Robots-Tag:noindex
X-PUBLISHED-TTL:PT1H
BEGIN:VTIMEZONE
TZID:America/Los_Angeles
BEGIN:DAYLIGHT
TZOFFSETFROM:-0800
TZOFFSETTO:-0700
TZNAME:PDT
DTSTART:20240310T100000
END:DAYLIGHT
BEGIN:STANDARD
TZOFFSETFROM:-0700
TZOFFSETTO:-0800
TZNAME:PST
DTSTART:20241103T090000
END:STANDARD
END:VTIMEZONE
BEGIN:VEVENT
DTSTART;TZID=America/Los_Angeles:20240720T080000
DTEND;TZID=America/Los_Angeles:20240721T190000
DTSTAMP:20260424T025710
CREATED:20240405T180158Z
LAST-MODIFIED:20240405T180158Z
UID:19681-1721462400-1721588400@usamastersboxing.com
SUMMARY:MIDWEST MASTERS BOXING TOURNAMENT
DESCRIPTION:The Midwest Masters Boxing Tournament\, hosted by A-Square Fight Club\, returns to Ann Arbor Michigan for the second year.\nThis tournament is for men and women of all experience levels\, ages 35 and older.
URL:https://usamastersboxing.com/event/midwest-masters-boxing-tournament-2
LOCATION:UA Local 190\, 7920 JACKSON RD\, Ann Arbor\, 48103\, United States
CATEGORIES:MASTERS TOURNAMENT
ATTACH;FMTTYPE=image/png:https://usamastersboxing.com/wp-content/uploads/2024/04/image01.png
END:VEVENT
END:VCALENDAR