BEGIN:VCALENDAR
VERSION:2.0
PRODID:-//USA Masters Boxing - ECPv6.0.6.2//NONSGML v1.0//EN
CALSCALE:GREGORIAN
METHOD:PUBLISH
X-WR-CALNAME:USA Masters Boxing
X-ORIGINAL-URL:https://usamastersboxing.com
X-WR-CALDESC:Events for USA Masters Boxing
REFRESH-INTERVAL;VALUE=DURATION:PT1H
X-Robots-Tag:noindex
X-PUBLISHED-TTL:PT1H
BEGIN:VTIMEZONE
TZID:America/Los_Angeles
BEGIN:DAYLIGHT
TZOFFSETFROM:-0800
TZOFFSETTO:-0700
TZNAME:PDT
DTSTART:20250309T100000
END:DAYLIGHT
BEGIN:STANDARD
TZOFFSETFROM:-0700
TZOFFSETTO:-0800
TZNAME:PST
DTSTART:20251102T090000
END:STANDARD
END:VTIMEZONE
BEGIN:VEVENT
DTSTART;TZID=America/Los_Angeles:20250726T080000
DTEND;TZID=America/Los_Angeles:20250727T170000
DTSTAMP:20260420T025229
CREATED:20250317T143955Z
LAST-MODIFIED:20250317T143956Z
UID:20264-1753516800-1753635600@usamastersboxing.com
SUMMARY:San Diego Harley Davidson Masters Championships
DESCRIPTION:Welcome to the 2025 San Diego Harley-Davidsons Masters Boxing Championships. This promises to be one of the best master tournaments and last one of the year in the west coast. With that said we are opening up registration early to make sure you have enough time to plan out and not miss this great event. This is a belt tournament so all winners of their brackets will win a beautiful Championship belt. \nThis tournament is open to all men and women ages 35 and up. This is a USA Boxing Sanctioned event so you must be a USA Boxing member and have your membership up-to-date as well as your physical. All experience levels are welcome from Novice (0-10 bouts) and open (11 or more bouts). You are matched up by age\, Weight\, and experience.
URL:https://usamastersboxing.com/event/san-diego-harley-davidson-masters-championships
LOCATION:San Diego Harley Davidson\, 4645 Morena Blvd\, San Diego\, California\, 92117\, United States
CATEGORIES:MASTERS TOURNAMENT
ATTACH;FMTTYPE=image/jpeg:https://usamastersboxing.com/wp-content/uploads/2025/03/481205407_615772547969698_4910720791894569665_n.jpg
ORGANIZER;CN="Manny%20Fernandez":MAILTO:manny@usamastersboxing.com
END:VEVENT
END:VCALENDAR