BEGIN:VCALENDAR
VERSION:2.0
PRODID:-//USA Masters Boxing - ECPv6.0.6.2//NONSGML v1.0//EN
CALSCALE:GREGORIAN
METHOD:PUBLISH
X-ORIGINAL-URL:https://usamastersboxing.com
X-WR-CALDESC:Events for USA Masters Boxing
REFRESH-INTERVAL;VALUE=DURATION:PT1H
X-Robots-Tag:noindex
X-PUBLISHED-TTL:PT1H
BEGIN:VTIMEZONE
TZID:America/Los_Angeles
BEGIN:DAYLIGHT
TZOFFSETFROM:-0800
TZOFFSETTO:-0700
TZNAME:PDT
DTSTART:20250309T100000
END:DAYLIGHT
BEGIN:STANDARD
TZOFFSETFROM:-0700
TZOFFSETTO:-0800
TZNAME:PST
DTSTART:20251102T090000
END:STANDARD
END:VTIMEZONE
BEGIN:VEVENT
DTSTART;TZID=America/Los_Angeles:20250517T090000
DTEND;TZID=America/Los_Angeles:20250518T190000
DTSTAMP:20260420T053840
CREATED:20241005T150300Z
LAST-MODIFIED:20241005T150300Z
UID:19954-1747472400-1747594800@usamastersboxing.com
SUMMARY:2025 Rude Dogs Battle on the Beach
DESCRIPTION:VENUE: The Anna Maria Island Center / 407 Magnolia Ave / Anna Maria\, FL \nDATE: May 16th thru 18th 2025 \nBOXER FEE: $186.50 \nMAY 16TH: Welcome ceremony at the hotel/reception area on that Friday evening. Unofficial mandatory weigh ins 6 pm – 9 pm  Everyone will be placed in a bracket after this weigh in. \nMAY 17TH & 18TH 2025:  Weigh ins:  8am sharp / Bouts start at 1pm sharp
URL:https://usamastersboxing.com/event/2025-rude-dogs-battle-on-the-beach
LOCATION:The Anna Maria Island Center\, 407 Magnolia Ave\, Anna Maria\, FL\, United States
CATEGORIES:MASTERS TOURNAMENT
ATTACH;FMTTYPE=image/jpeg:https://usamastersboxing.com/wp-content/uploads/2024/10/453477783_1060801112711820_612685859234434124_n.jpg
END:VEVENT
END:VCALENDAR