BEGIN:VCALENDAR
VERSION:2.0
PRODID:-//USA Masters Boxing - ECPv6.0.6.2//NONSGML v1.0//EN
CALSCALE:GREGORIAN
METHOD:PUBLISH
X-WR-CALNAME:USA Masters Boxing
X-ORIGINAL-URL:https://usamastersboxing.com
X-WR-CALDESC:Events for USA Masters Boxing
REFRESH-INTERVAL;VALUE=DURATION:PT1H
X-Robots-Tag:noindex
X-PUBLISHED-TTL:PT1H
BEGIN:VTIMEZONE
TZID:America/Los_Angeles
BEGIN:DAYLIGHT
TZOFFSETFROM:-0800
TZOFFSETTO:-0700
TZNAME:PDT
DTSTART:20240310T100000
END:DAYLIGHT
BEGIN:STANDARD
TZOFFSETFROM:-0700
TZOFFSETTO:-0800
TZNAME:PST
DTSTART:20241103T090000
END:STANDARD
END:VTIMEZONE
BEGIN:VEVENT
DTSTART;TZID=America/Los_Angeles:20240323T090000
DTEND;TZID=America/Los_Angeles:20240324T160000
DTSTAMP:20260424T071209
CREATED:20240302T161009Z
LAST-MODIFIED:20240302T161009Z
UID:19634-1711184400-1711296000@usamastersboxing.com
SUMMARY:New Jersey Masters Sparring Camp
DESCRIPTION:Registration for the New Jersey Sparring Camp will begin Monday March 4th\, 2024.\nJoin us for the first ever East Coast Masters Sparring Camp…\n\nDATE: March 23rd and 24th\n\nTIMES: 9am – 12pm (2 hour break) 2pm to 4pm\n\nLOCATION: Showboat Atlantic City 801 Boardwalk\, Atlantic City\, NJ 08401\n\nThe focus will be sparring and how to use it to best prepare yourself for a boxing match. We will teach some very important fundamentals such as footwork\, head movement\, offensive and defensive techniques and how to incorporate them into your boxing style. Sparring will be controlled and supervised at all times. Sparring will also be filmed and will be used to learn to breakdown film both for yourself improvement and how to view and study your opponents video. For many of you the opportunity to spar with other master boxers is slim to none\, here is your chance to dance in the ring with other masters.\n\n\nFor those who have the challenge of a gym being hours away\, we will show you the best and closest thing to sparring that you can do at home that will give you a great work out and will put you in the closest thing to sparring possible.\n\n\nRegister on Monday and don’t miss out!!!! Registration page will be up monday\nwww.usamastersboxing.com/sparring
URL:https://usamastersboxing.com/event/new-jersey-masters-sparring-camp
LOCATION:Showboat Atlantic City\, 801 Boardwalk\, Atlantic City\, NJ\, 08401\, United States
CATEGORIES:MASTERS SPARRING,MASTERS TOURNAMENT
ATTACH;FMTTYPE=image/jpeg:https://usamastersboxing.com/wp-content/uploads/2024/03/NJ-Sparring-Camp-scaled.jpg
ORGANIZER;CN="Manny%20Fernandez":MAILTO:manny@usamastersboxing.com
END:VEVENT
END:VCALENDAR